BEGIN:VCALENDAR
VERSION:2.0
PRODID:https://www.kufer.de/kuferweb / DE
METHOD:PUBLISH
CALSCALE:GREGORIAN
X-WR-TIMEZONE:Europe/Berlin
BEGIN:VTIMEZONE
TZID:Europe/Berlin
X-LIC-LOCATION:Europe/Berlin
BEGIN:DAYLIGHT
TZOFFSETFROM:+0100
TZOFFSETTO:+0200
TZNAME:CEST
DTSTART:19700329T020000
RRULE:FREQ=YEARLY;INTERVAL=1;BYDAY=-1SU;BYMONTH=3
END:DAYLIGHT
BEGIN:STANDARD
TZOFFSETFROM:+0200
TZOFFSETTO:+0100
TZNAME:CET
DTSTART:19701025T030000
RRULE:FREQ=YEARLY;INTERVAL=1;BYDAY=-1SU;BYMONTH=10
END:STANDARD
END:VTIMEZONE
BEGIN:VEVENT
DTSTAMP:20260425T124812
DTSTART;TZID=Europe/Berlin:20260112T153000
DTEND;TZID=Europe/Berlin:20260112T170000
UID:26F4220201-20260112T153000@VHSROSTOCK
SUMMARY:Spanisch - Niveaustufe A1.1 - 2. Semester (26F4220201) 
LOCATION:Am Kabutzenhof 20 a, Raum 3.R04, Am Kabutzenhof 20a, 18057 Rostock
END:VEVENT
BEGIN:VEVENT
DTSTAMP:20260425T124812
DTSTART;TZID=Europe/Berlin:20260119T153000
DTEND;TZID=Europe/Berlin:20260119T170000
UID:26F4220201-20260119T153000@VHSROSTOCK
SUMMARY:Spanisch - Niveaustufe A1.1 - 2. Semester (26F4220201) 
LOCATION:Am Kabutzenhof 20 a, Raum 3.R04, Am Kabutzenhof 20a, 18057 Rostock
END:VEVENT
BEGIN:VEVENT
DTSTAMP:20260425T124812
DTSTART;TZID=Europe/Berlin:20260126T153000
DTEND;TZID=Europe/Berlin:20260126T170000
UID:26F4220201-20260126T153000@VHSROSTOCK
SUMMARY:Spanisch - Niveaustufe A1.1 - 2. Semester (26F4220201) 
LOCATION:Am Kabutzenhof 20 a, Raum 3.R04, Am Kabutzenhof 20a, 18057 Rostock
END:VEVENT
BEGIN:VEVENT
DTSTAMP:20260425T124812
DTSTART;TZID=Europe/Berlin:20260202T153000
DTEND;TZID=Europe/Berlin:20260202T170000
UID:26F4220201-20260202T153000@VHSROSTOCK
SUMMARY:Spanisch - Niveaustufe A1.1 - 2. Semester (26F4220201) 
LOCATION:Am Kabutzenhof 20 a, Raum 3.R04, Am Kabutzenhof 20a, 18057 Rostock
END:VEVENT
BEGIN:VEVENT
DTSTAMP:20260425T124812
DTSTART;TZID=Europe/Berlin:20260223T153000
DTEND;TZID=Europe/Berlin:20260223T170000
UID:26F4220201-20260223T153000@VHSROSTOCK
SUMMARY:Spanisch - Niveaustufe A1.1 - 2. Semester (26F4220201) 
LOCATION:Am Kabutzenhof 20 a, Raum 3.R04, Am Kabutzenhof 20a, 18057 Rostock
END:VEVENT
BEGIN:VEVENT
DTSTAMP:20260425T124812
DTSTART;TZID=Europe/Berlin:20260302T153000
DTEND;TZID=Europe/Berlin:20260302T170000
UID:26F4220201-20260302T153000@VHSROSTOCK
SUMMARY:Spanisch - Niveaustufe A1.1 - 2. Semester (26F4220201) 
LOCATION:Am Kabutzenhof 20 a, Raum 3.R04, Am Kabutzenhof 20a, 18057 Rostock
END:VEVENT
BEGIN:VEVENT
DTSTAMP:20260425T124812
DTSTART;TZID=Europe/Berlin:20260309T153000
DTEND;TZID=Europe/Berlin:20260309T170000
UID:26F4220201-20260309T153000@VHSROSTOCK
SUMMARY:Spanisch - Niveaustufe A1.1 - 2. Semester (26F4220201) 
LOCATION:Am Kabutzenhof 20 a, Raum 3.R04, Am Kabutzenhof 20a, 18057 Rostock
END:VEVENT
BEGIN:VEVENT
DTSTAMP:20260425T124812
DTSTART;TZID=Europe/Berlin:20260316T153000
DTEND;TZID=Europe/Berlin:20260316T170000
UID:26F4220201-20260316T153000@VHSROSTOCK
SUMMARY:Spanisch - Niveaustufe A1.1 - 2. Semester (26F4220201) 
LOCATION:Am Kabutzenhof 20 a, Raum 3.R04, Am Kabutzenhof 20a, 18057 Rostock
END:VEVENT
BEGIN:VEVENT
DTSTAMP:20260425T124812
DTSTART;TZID=Europe/Berlin:20260323T153000
DTEND;TZID=Europe/Berlin:20260323T170000
UID:26F4220201-20260323T153000@VHSROSTOCK
SUMMARY:Spanisch - Niveaustufe A1.1 - 2. Semester (26F4220201) 
LOCATION:Am Kabutzenhof 20 a, Raum 3.R04, Am Kabutzenhof 20a, 18057 Rostock
END:VEVENT
BEGIN:VEVENT
DTSTAMP:20260425T124812
DTSTART;TZID=Europe/Berlin:20260413T153000
DTEND;TZID=Europe/Berlin:20260413T170000
UID:26F4220201-20260413T153000@VHSROSTOCK
SUMMARY:Spanisch - Niveaustufe A1.1 - 2. Semester (26F4220201) 
LOCATION:Am Kabutzenhof 20 a, Raum 3.R04, Am Kabutzenhof 20a, 18057 Rostock
END:VEVENT
BEGIN:VEVENT
DTSTAMP:20260425T124812
DTSTART;TZID=Europe/Berlin:20260420T153000
DTEND;TZID=Europe/Berlin:20260420T170000
UID:26F4220201-20260420T153000@VHSROSTOCK
SUMMARY:Spanisch - Niveaustufe A1.1 - 2. Semester (26F4220201) 
LOCATION:Am Kabutzenhof 20 a, Raum 3.R04, Am Kabutzenhof 20a, 18057 Rostock
END:VEVENT
BEGIN:VEVENT
DTSTAMP:20260425T124812
DTSTART;TZID=Europe/Berlin:20260427T153000
DTEND;TZID=Europe/Berlin:20260427T170000
UID:26F4220201-20260427T153000@VHSROSTOCK
SUMMARY:Spanisch - Niveaustufe A1.1 - 2. Semester (26F4220201) 
LOCATION:Am Kabutzenhof 20 a, Raum 3.R04, Am Kabutzenhof 20a, 18057 Rostock
END:VEVENT
BEGIN:VEVENT
DTSTAMP:20260425T124812
DTSTART;TZID=Europe/Berlin:20260504T153000
DTEND;TZID=Europe/Berlin:20260504T170000
UID:26F4220201-20260504T153000@VHSROSTOCK
SUMMARY:Spanisch - Niveaustufe A1.1 - 2. Semester (26F4220201) 
LOCATION:Am Kabutzenhof 20 a, Raum 3.R04, Am Kabutzenhof 20a, 18057 Rostock
END:VEVENT
BEGIN:VEVENT
DTSTAMP:20260425T124812
DTSTART;TZID=Europe/Berlin:20260511T153000
DTEND;TZID=Europe/Berlin:20260511T170000
UID:26F4220201-20260511T153000@VHSROSTOCK
SUMMARY:Spanisch - Niveaustufe A1.1 - 2. Semester (26F4220201) 
LOCATION:Am Kabutzenhof 20 a, Raum 3.R04, Am Kabutzenhof 20a, 18057 Rostock
END:VEVENT
BEGIN:VEVENT
DTSTAMP:20260425T124812
DTSTART;TZID=Europe/Berlin:20260518T153000
DTEND;TZID=Europe/Berlin:20260518T170000
UID:26F4220201-20260518T153000@VHSROSTOCK
SUMMARY:Spanisch - Niveaustufe A1.1 - 2. Semester (26F4220201) 
LOCATION:Am Kabutzenhof 20 a, Raum 3.R04, Am Kabutzenhof 20a, 18057 Rostock
END:VEVENT
BEGIN:VEVENT
DTSTAMP:20260425T124812
DTSTART;TZID=Europe/Berlin:20260601T153000
DTEND;TZID=Europe/Berlin:20260601T170000
UID:26F4220201-20260601T153000@VHSROSTOCK
SUMMARY:Spanisch - Niveaustufe A1.1 - 2. Semester (26F4220201) 
LOCATION:Am Kabutzenhof 20 a, Raum 3.R04, Am Kabutzenhof 20a, 18057 Rostock
END:VEVENT
END:VCALENDAR