BEGIN:VCALENDAR
VERSION:2.0
PRODID:https://www.kufer.de/kuferweb / DE
METHOD:PUBLISH
CALSCALE:GREGORIAN
X-WR-TIMEZONE:Europe/Berlin
BEGIN:VTIMEZONE
TZID:Europe/Berlin
X-LIC-LOCATION:Europe/Berlin
BEGIN:DAYLIGHT
TZOFFSETFROM:+0100
TZOFFSETTO:+0200
TZNAME:CEST
DTSTART:19700329T020000
RRULE:FREQ=YEARLY;INTERVAL=1;BYDAY=-1SU;BYMONTH=3
END:DAYLIGHT
BEGIN:STANDARD
TZOFFSETFROM:+0200
TZOFFSETTO:+0100
TZNAME:CET
DTSTART:19701025T030000
RRULE:FREQ=YEARLY;INTERVAL=1;BYDAY=-1SU;BYMONTH=10
END:STANDARD
END:VTIMEZONE
BEGIN:VEVENT
DTSTAMP:20260425T124945
DTSTART;TZID=Europe/Berlin:20260416T180000
DTEND;TZID=Europe/Berlin:20260416T203000
UID:26F404622M-20260416T180000@VHSROSTOCK
SUMMARY:Deutsch als Fremdsprache - Modulkurs 2 - Niveaustufe B2 (26F404622M) 
LOCATION:Am Kabutzenhof 20 a, Raum 3.R02, Am Kabutzenhof 20a, 18057 Rostock
END:VEVENT
BEGIN:VEVENT
DTSTAMP:20260425T124945
DTSTART;TZID=Europe/Berlin:20260420T180000
DTEND;TZID=Europe/Berlin:20260420T203000
UID:26F404622M-20260420T180000@VHSROSTOCK
SUMMARY:Deutsch als Fremdsprache - Modulkurs 2 - Niveaustufe B2 (26F404622M) 
LOCATION:Am Kabutzenhof 20 a, Raum 3.R02, Am Kabutzenhof 20a, 18057 Rostock
END:VEVENT
BEGIN:VEVENT
DTSTAMP:20260425T124945
DTSTART;TZID=Europe/Berlin:20260422T180000
DTEND;TZID=Europe/Berlin:20260422T203000
UID:26F404622M-20260422T180000@VHSROSTOCK
SUMMARY:Deutsch als Fremdsprache - Modulkurs 2 - Niveaustufe B2 (26F404622M) 
LOCATION:Am Kabutzenhof 20 a, Raum 3.R02, Am Kabutzenhof 20a, 18057 Rostock
END:VEVENT
BEGIN:VEVENT
DTSTAMP:20260425T124945
DTSTART;TZID=Europe/Berlin:20260423T180000
DTEND;TZID=Europe/Berlin:20260423T203000
UID:26F404622M-20260423T180000@VHSROSTOCK
SUMMARY:Deutsch als Fremdsprache - Modulkurs 2 - Niveaustufe B2 (26F404622M) 
LOCATION:Am Kabutzenhof 20 a, Raum 3.R02, Am Kabutzenhof 20a, 18057 Rostock
END:VEVENT
BEGIN:VEVENT
DTSTAMP:20260425T124945
DTSTART;TZID=Europe/Berlin:20260427T180000
DTEND;TZID=Europe/Berlin:20260427T203000
UID:26F404622M-20260427T180000@VHSROSTOCK
SUMMARY:Deutsch als Fremdsprache - Modulkurs 2 - Niveaustufe B2 (26F404622M) 
LOCATION:Am Kabutzenhof 20 a, Raum 3.R02, Am Kabutzenhof 20a, 18057 Rostock
END:VEVENT
BEGIN:VEVENT
DTSTAMP:20260425T124945
DTSTART;TZID=Europe/Berlin:20260429T180000
DTEND;TZID=Europe/Berlin:20260429T203000
UID:26F404622M-20260429T180000@VHSROSTOCK
SUMMARY:Deutsch als Fremdsprache - Modulkurs 2 - Niveaustufe B2 (26F404622M) 
LOCATION:Am Kabutzenhof 20 a, Raum 3.R02, Am Kabutzenhof 20a, 18057 Rostock
END:VEVENT
BEGIN:VEVENT
DTSTAMP:20260425T124945
DTSTART;TZID=Europe/Berlin:20260430T180000
DTEND;TZID=Europe/Berlin:20260430T203000
UID:26F404622M-20260430T180000@VHSROSTOCK
SUMMARY:Deutsch als Fremdsprache - Modulkurs 2 - Niveaustufe B2 (26F404622M) 
LOCATION:Am Kabutzenhof 20 a, Raum 3.R02, Am Kabutzenhof 20a, 18057 Rostock
END:VEVENT
BEGIN:VEVENT
DTSTAMP:20260425T124945
DTSTART;TZID=Europe/Berlin:20260504T180000
DTEND;TZID=Europe/Berlin:20260504T203000
UID:26F404622M-20260504T180000@VHSROSTOCK
SUMMARY:Deutsch als Fremdsprache - Modulkurs 2 - Niveaustufe B2 (26F404622M) 
LOCATION:Am Kabutzenhof 20 a, Raum 3.R02, Am Kabutzenhof 20a, 18057 Rostock
END:VEVENT
BEGIN:VEVENT
DTSTAMP:20260425T124945
DTSTART;TZID=Europe/Berlin:20260506T180000
DTEND;TZID=Europe/Berlin:20260506T203000
UID:26F404622M-20260506T180000@VHSROSTOCK
SUMMARY:Deutsch als Fremdsprache - Modulkurs 2 - Niveaustufe B2 (26F404622M) 
LOCATION:Am Kabutzenhof 20 a, Raum 3.R02, Am Kabutzenhof 20a, 18057 Rostock
END:VEVENT
BEGIN:VEVENT
DTSTAMP:20260425T124945
DTSTART;TZID=Europe/Berlin:20260507T180000
DTEND;TZID=Europe/Berlin:20260507T203000
UID:26F404622M-20260507T180000@VHSROSTOCK
SUMMARY:Deutsch als Fremdsprache - Modulkurs 2 - Niveaustufe B2 (26F404622M) 
LOCATION:Am Kabutzenhof 20 a, Raum 3.R02, Am Kabutzenhof 20a, 18057 Rostock
END:VEVENT
BEGIN:VEVENT
DTSTAMP:20260425T124945
DTSTART;TZID=Europe/Berlin:20260511T180000
DTEND;TZID=Europe/Berlin:20260511T203000
UID:26F404622M-20260511T180000@VHSROSTOCK
SUMMARY:Deutsch als Fremdsprache - Modulkurs 2 - Niveaustufe B2 (26F404622M) 
LOCATION:Am Kabutzenhof 20 a, Raum 3.R02, Am Kabutzenhof 20a, 18057 Rostock
END:VEVENT
BEGIN:VEVENT
DTSTAMP:20260425T124945
DTSTART;TZID=Europe/Berlin:20260513T180000
DTEND;TZID=Europe/Berlin:20260513T203000
UID:26F404622M-20260513T180000@VHSROSTOCK
SUMMARY:Deutsch als Fremdsprache - Modulkurs 2 - Niveaustufe B2 (26F404622M) 
LOCATION:Am Kabutzenhof 20 a, Raum 3.R02, Am Kabutzenhof 20a, 18057 Rostock
END:VEVENT
BEGIN:VEVENT
DTSTAMP:20260425T124945
DTSTART;TZID=Europe/Berlin:20260518T180000
DTEND;TZID=Europe/Berlin:20260518T203000
UID:26F404622M-20260518T180000@VHSROSTOCK
SUMMARY:Deutsch als Fremdsprache - Modulkurs 2 - Niveaustufe B2 (26F404622M) 
LOCATION:Am Kabutzenhof 20 a, Raum 3.R02, Am Kabutzenhof 20a, 18057 Rostock
END:VEVENT
BEGIN:VEVENT
DTSTAMP:20260425T124945
DTSTART;TZID=Europe/Berlin:20260520T180000
DTEND;TZID=Europe/Berlin:20260520T203000
UID:26F404622M-20260520T180000@VHSROSTOCK
SUMMARY:Deutsch als Fremdsprache - Modulkurs 2 - Niveaustufe B2 (26F404622M) 
LOCATION:Am Kabutzenhof 20 a, Raum 3.R02, Am Kabutzenhof 20a, 18057 Rostock
END:VEVENT
BEGIN:VEVENT
DTSTAMP:20260425T124945
DTSTART;TZID=Europe/Berlin:20260521T180000
DTEND;TZID=Europe/Berlin:20260521T203000
UID:26F404622M-20260521T180000@VHSROSTOCK
SUMMARY:Deutsch als Fremdsprache - Modulkurs 2 - Niveaustufe B2 (26F404622M) 
LOCATION:Am Kabutzenhof 20 a, Raum 3.R02, Am Kabutzenhof 20a, 18057 Rostock
END:VEVENT
BEGIN:VEVENT
DTSTAMP:20260425T124945
DTSTART;TZID=Europe/Berlin:20260527T180000
DTEND;TZID=Europe/Berlin:20260527T203000
UID:26F404622M-20260527T180000@VHSROSTOCK
SUMMARY:Deutsch als Fremdsprache - Modulkurs 2 - Niveaustufe B2 (26F404622M) 
LOCATION:Am Kabutzenhof 20 a, Raum 3.R02, Am Kabutzenhof 20a, 18057 Rostock
END:VEVENT
BEGIN:VEVENT
DTSTAMP:20260425T124945
DTSTART;TZID=Europe/Berlin:20260528T180000
DTEND;TZID=Europe/Berlin:20260528T203000
UID:26F404622M-20260528T180000@VHSROSTOCK
SUMMARY:Deutsch als Fremdsprache - Modulkurs 2 - Niveaustufe B2 (26F404622M) 
LOCATION:Am Kabutzenhof 20 a, Raum 3.R02, Am Kabutzenhof 20a, 18057 Rostock
END:VEVENT
BEGIN:VEVENT
DTSTAMP:20260425T124945
DTSTART;TZID=Europe/Berlin:20260601T180000
DTEND;TZID=Europe/Berlin:20260601T203000
UID:26F404622M-20260601T180000@VHSROSTOCK
SUMMARY:Deutsch als Fremdsprache - Modulkurs 2 - Niveaustufe B2 (26F404622M) 
LOCATION:Am Kabutzenhof 20 a, Raum 3.R02, Am Kabutzenhof 20a, 18057 Rostock
END:VEVENT
BEGIN:VEVENT
DTSTAMP:20260425T124945
DTSTART;TZID=Europe/Berlin:20260603T180000
DTEND;TZID=Europe/Berlin:20260603T203000
UID:26F404622M-20260603T180000@VHSROSTOCK
SUMMARY:Deutsch als Fremdsprache - Modulkurs 2 - Niveaustufe B2 (26F404622M) 
LOCATION:Am Kabutzenhof 20 a, Raum 3.R02, Am Kabutzenhof 20a, 18057 Rostock
END:VEVENT
BEGIN:VEVENT
DTSTAMP:20260425T124945
DTSTART;TZID=Europe/Berlin:20260604T180000
DTEND;TZID=Europe/Berlin:20260604T203000
UID:26F404622M-20260604T180000@VHSROSTOCK
SUMMARY:Deutsch als Fremdsprache - Modulkurs 2 - Niveaustufe B2 (26F404622M) 
LOCATION:Am Kabutzenhof 20 a, Raum 3.R02, Am Kabutzenhof 20a, 18057 Rostock
END:VEVENT
BEGIN:VEVENT
DTSTAMP:20260425T124945
DTSTART;TZID=Europe/Berlin:20260605T180000
DTEND;TZID=Europe/Berlin:20260605T203000
UID:26F404622M-20260605T180000@VHSROSTOCK
SUMMARY:Deutsch als Fremdsprache - Modulkurs 2 - Niveaustufe B2 (26F404622M) 
LOCATION:Am Kabutzenhof 20 a, Raum 3.R02, Am Kabutzenhof 20a, 18057 Rostock
END:VEVENT
BEGIN:VEVENT
DTSTAMP:20260425T124945
DTSTART;TZID=Europe/Berlin:20260608T180000
DTEND;TZID=Europe/Berlin:20260608T203000
UID:26F404622M-20260608T180000@VHSROSTOCK
SUMMARY:Deutsch als Fremdsprache - Modulkurs 2 - Niveaustufe B2 (26F404622M) 
LOCATION:Am Kabutzenhof 20 a, Raum 3.R02, Am Kabutzenhof 20a, 18057 Rostock
END:VEVENT
BEGIN:VEVENT
DTSTAMP:20260425T124945
DTSTART;TZID=Europe/Berlin:20260610T180000
DTEND;TZID=Europe/Berlin:20260610T203000
UID:26F404622M-20260610T180000@VHSROSTOCK
SUMMARY:Deutsch als Fremdsprache - Modulkurs 2 - Niveaustufe B2 (26F404622M) 
LOCATION:Am Kabutzenhof 20 a, Raum 3.R02, Am Kabutzenhof 20a, 18057 Rostock
END:VEVENT
BEGIN:VEVENT
DTSTAMP:20260425T124945
DTSTART;TZID=Europe/Berlin:20260611T180000
DTEND;TZID=Europe/Berlin:20260611T203000
UID:26F404622M-20260611T180000@VHSROSTOCK
SUMMARY:Deutsch als Fremdsprache - Modulkurs 2 - Niveaustufe B2 (26F404622M) 
LOCATION:Am Kabutzenhof 20 a, Raum 3.R02, Am Kabutzenhof 20a, 18057 Rostock
END:VEVENT
BEGIN:VEVENT
DTSTAMP:20260425T124945
DTSTART;TZID=Europe/Berlin:20260612T180000
DTEND;TZID=Europe/Berlin:20260612T203000
UID:26F404622M-20260612T180000@VHSROSTOCK
SUMMARY:Deutsch als Fremdsprache - Modulkurs 2 - Niveaustufe B2 (26F404622M) 
LOCATION:Am Kabutzenhof 20 a, Raum 3.R02, Am Kabutzenhof 20a, 18057 Rostock
END:VEVENT
END:VCALENDAR